BEGIN:VCALENDAR
VERSION:2.0
PRODID:-// - ECPv5.16.2//NONSGML v1.0//EN
CALSCALE:GREGORIAN
METHOD:PUBLISH
X-ORIGINAL-URL:https://www.pferdesportverband-ndb-opf.de
X-WR-CALDESC:Veranstaltungen für 
BEGIN:VTIMEZONE
TZID:Europe/Berlin
BEGIN:DAYLIGHT
TZOFFSETFROM:+0100
TZOFFSETTO:+0200
TZNAME:CEST
DTSTART:20260329T010000
END:DAYLIGHT
BEGIN:STANDARD
TZOFFSETFROM:+0200
TZOFFSETTO:+0100
TZNAME:CET
DTSTART:20261025T010000
END:STANDARD
END:VTIMEZONE
BEGIN:VEVENT
DTSTART;TZID=Europe/Berlin:20260424T080000
DTEND;TZID=Europe/Berlin:20260531T170000
DTSTAMP:20260424T130534
CREATED:20260424T071658Z
LAST-MODIFIED:20260424T071725Z
UID:12645-1777017600-1780246800@www.pferdesportverband-ndb-opf.de
SUMMARY:Inklusion beim Voltigieren
DESCRIPTION:
URL:https://www.pferdesportverband-ndb-opf.de/event/inklusion-beim-voltigieren/
LOCATION:RG Gut Waffenschmiede e. V.
CATEGORIES:Allgemein
ATTACH;FMTTYPE=image/jpeg:https://www.pferdesportverband-ndb-opf.de/wp-content/uploads/2021/11/Fledermaeuse.jpg
END:VEVENT
END:VCALENDAR